BEGIN:VCALENDAR
VERSION:2.0
PRODID:-//Marike Daalman - ECPv6.15.20//NONSGML v1.0//EN
CALSCALE:GREGORIAN
METHOD:PUBLISH
X-WR-CALNAME:Marike Daalman
X-ORIGINAL-URL:https://marikedaalman.nl
X-WR-CALDESC:Evenementen voor Marike Daalman
REFRESH-INTERVAL;VALUE=DURATION:PT1H
X-Robots-Tag:noindex
X-PUBLISHED-TTL:PT1H
BEGIN:VTIMEZONE
TZID:Europe/Amsterdam
BEGIN:DAYLIGHT
TZOFFSETFROM:+0100
TZOFFSETTO:+0200
TZNAME:CEST
DTSTART:20240331T010000
END:DAYLIGHT
BEGIN:STANDARD
TZOFFSETFROM:+0200
TZOFFSETTO:+0100
TZNAME:CET
DTSTART:20241027T010000
END:STANDARD
BEGIN:DAYLIGHT
TZOFFSETFROM:+0100
TZOFFSETTO:+0200
TZNAME:CEST
DTSTART:20250330T010000
END:DAYLIGHT
BEGIN:STANDARD
TZOFFSETFROM:+0200
TZOFFSETTO:+0100
TZNAME:CET
DTSTART:20251026T010000
END:STANDARD
BEGIN:DAYLIGHT
TZOFFSETFROM:+0100
TZOFFSETTO:+0200
TZNAME:CEST
DTSTART:20260329T010000
END:DAYLIGHT
BEGIN:STANDARD
TZOFFSETFROM:+0200
TZOFFSETTO:+0100
TZNAME:CET
DTSTART:20261025T010000
END:STANDARD
END:VTIMEZONE
BEGIN:VEVENT
DTSTART;TZID=Europe/Amsterdam:20250424T080000
DTEND;TZID=Europe/Amsterdam:20250424T170000
DTSTAMP:20260420T233621
CREATED:20250424T150534Z
LAST-MODIFIED:20250424T150534Z
UID:2207-1745481600-1745514000@marikedaalman.nl
SUMMARY:Boekpresentatie
DESCRIPTION:Zo spannend! \nTijdens de Gezondheidsmarkt 2025 vindt mijn boekpresentatie plaats. \nDe datum is nog niet helemaal definitief heb ik begrepen\, dus nog een kleine slag om de arm wat dat betreft.
URL:https://marikedaalman.nl/event/boekpresentatie/
CATEGORIES:Algemeen,Lezing
ATTACH;FMTTYPE=image/jpeg:https://marikedaalman.nl/wp-content/uploads/2020/11/Intuitief-schilderen-met-Aquarelverf.jpg
END:VEVENT
END:VCALENDAR